BEGIN:VCALENDAR
VERSION:2.0
CALSCALE:GREGORIAN
PRODID:adamgibbons/ics
METHOD:PUBLISH
X-PUBLISHED-TTL:PT1H
BEGIN:VEVENT
UID:9233@calendari.cc
SUMMARY:Aniversari de La Raposa
DTSTAMP:20260424T170225Z
DTSTART:20260424T220000Z
DTEND:20260426T100000Z
URL:https://calendari.cc/event/aniversari-de-la-raposa
GEO:41.3725;2.16395
LOCATION:La Raposa - 47\, Carrer de Tapioles\, el Poble-sec\, Barcelona\, 0
	8004
STATUS:CONFIRMED
CATEGORIES:aniversari,antiespecisme,Dj,fanzines,festa,lesbofeminisme,PobleS
	ec,transfeminisme,veganisme
END:VEVENT
BEGIN:VEVENT
UID:9602@calendari.cc
SUMMARY:Formació en línia sobre la regularització extraordinària des d'una 
	perspectiva feminista i antiracista
DTSTAMP:20260424T170225Z
DTSTART:20260429T163000Z
DTEND:20260429T180000Z
URL:https://calendari.cc/event/formacio-en-linia-sobre-la-regularitzacio-ex
	traordinaria-des-duna-perspectiva-feminista-i-antiracista
LOCATION:online - https://nextcloud.pangea.org/apps/forms/s/F5dQbbKRTEpft54
	fEWrH4Fsj
STATUS:CONFIRMED
CATEGORIES:anticapitalisme,antiracisme,Feminisme,FemisAnticapis,FemisAntica
	pisPPCC,regularització,RegularizaciónYa,transfeminisme
END:VEVENT
END:VCALENDAR
