BEGIN:VCALENDAR
VERSION:2.0
CALSCALE:GREGORIAN
PRODID:adamgibbons/ics
METHOD:PUBLISH
X-PUBLISHED-TTL:PT1H
BEGIN:VEVENT
UID:9603@calendari.cc
SUMMARY:Jornada Contra el Trabajo
DTSTAMP:20260424T182545Z
DTSTART:20260523T133000Z
DTEND:20260523T203000Z
URL:https://calendari.cc/event/jornada-contra-el-trabajo
GEO:40.4095;-3.70965
LOCATION:CSO La Rosa - Calle Bastero 1
STATUS:CONFIRMED
CATEGORIES:anarquismo,Charlas,Jornada,Madrid,taller,trabajo
END:VEVENT
END:VCALENDAR
