BEGIN:VCALENDAR
VERSION:2.0
CALSCALE:GREGORIAN
PRODID:adamgibbons/ics
METHOD:PUBLISH
X-PUBLISHED-TTL:PT1H
BEGIN:VEVENT
UID:8491@calendari.cc
SUMMARY:XXIV Mostra del Llibre Anarquista de València
DTSTAMP:20260421T085108Z
DTSTART:20260420T170000Z
DTEND:20260426T193000Z
URL:https://calendari.cc/event/xxiv-mostra-del-llibre-anarquista-de-valenci
	a
GEO:39.3342;-0.797347
LOCATION:Múltiples llocs - València / Valencia\, Comunitat Valenciana\, Esp
	aña
STATUS:CONFIRMED
CATEGORIES:anarquisme,benimaclet,cabanyal,ciutat vella,llibres,mislata,pres
	entació,torrefiel,xerrada,XXIV Mostra del Llibre Anarquista
END:VEVENT
END:VCALENDAR
