BEGIN:VCALENDAR
VERSION:2.0
CALSCALE:GREGORIAN
PRODID:adamgibbons/ics
METHOD:PUBLISH
X-PUBLISHED-TTL:PT1H
BEGIN:VEVENT
UID:9565@calendari.cc
SUMMARY:Concentración en el hotel NH en apoyo a las compañeras de la Secció
	n Sindical de NH Hoteles en Barcelona
DTSTAMP:20260423T040811Z
DTSTART:20260424T160000Z
DTEND:20260424T180000Z
URL:https://calendari.cc/event/concentracion-en-el-hotel-nh-en-apoyo-a-las-
	companeras-de-la-seccion-sindical-de-nh-hoteles-en-barcelona
LOCATION:Hotel NH - Calle San Jacinto\, 2
STATUS:CONFIRMED
CATEGORIES:#Andalucía,#Málaga,sindicalismo
END:VEVENT
END:VCALENDAR
