BEGIN:VCALENDAR
VERSION:2.0
CALSCALE:GREGORIAN
PRODID:adamgibbons/ics
METHOD:PUBLISH
X-PUBLISHED-TTL:PT1H
BEGIN:VEVENT
UID:9464@calendari.cc
SUMMARY:Presentació del fanzine "Tan guapa de cara: gordura y sexualidad"
DTSTAMP:20260419T153320Z
DTSTART:20260420T170000Z
DTEND:20260420T190000Z
URL:https://calendari.cc/event/presentacio-del-fanzine-tan-guapa-de-cara-go
	rdura-y-sexualidad
GEO:39.4658;-0.329767
LOCATION:Ateneu Llibertari del Cabanyal - C/ Barraca 57\, baix esquerra
STATUS:CONFIRMED
CATEGORIES:gordofòbia,sexualitat,XXIV Mostra del Llibre Anarquista
END:VEVENT
END:VCALENDAR
