BEGIN:VCALENDAR
VERSION:2.0
CALSCALE:GREGORIAN
PRODID:adamgibbons/ics
METHOD:PUBLISH
X-PUBLISHED-TTL:PT1H
BEGIN:VEVENT
UID:9572@calendari.cc
SUMMARY:Regularització: Punt de Suport i Informació Gratuït
DTSTAMP:20260423T172539Z
DTSTART:20260430T160000Z
DTEND:20260430T190000Z
URL:https://calendari.cc/event/regularitzacio-punt-de-suport-i-informacio-g
	ratuit
GEO:39.4705;-0.39647
LOCATION:Casal Obrer i Popular de l'Olivereta - C/ Olímpia Arozena Torres\,
	 42\, baix esquerra
STATUS:CONFIRMED
CATEGORIES:olivereta,regularització
END:VEVENT
BEGIN:VEVENT
UID:9573@calendari.cc
SUMMARY:Regularització: Punt de Suport i Informació Gratuït
DTSTAMP:20260423T172539Z
DTSTART:20260507T160000Z
DTEND:20260507T190000Z
URL:https://calendari.cc/event/regularitzacio-punt-de-suport-i-informacio-g
	ratuit-1
GEO:39.4705;-0.39647
LOCATION:Casal Obrer i Popular de l'Olivereta - C/ Olímpia Arozena Torres\,
	 42\, baix esquerra
STATUS:CONFIRMED
CATEGORIES:olivereta,regularització
END:VEVENT
BEGIN:VEVENT
UID:9574@calendari.cc
SUMMARY:Regularització: Punt de Suport i Informació Gratuït
DTSTAMP:20260423T172539Z
DTSTART:20260514T160000Z
DTEND:20260514T190000Z
URL:https://calendari.cc/event/regularitzacio-punt-de-suport-i-informacio-g
	ratuit-2
GEO:39.4705;-0.39647
LOCATION:Casal Obrer i Popular de l'Olivereta - C/ Olímpia Arozena Torres\,
	 42\, baix esquerra
STATUS:CONFIRMED
CATEGORIES:olivereta,regularització
END:VEVENT
BEGIN:VEVENT
UID:9575@calendari.cc
SUMMARY:Regularització: Punt de Suport i Informació Gratuït
DTSTAMP:20260423T172539Z
DTSTART:20260521T160000Z
DTEND:20260521T190000Z
URL:https://calendari.cc/event/regularitzacio-punt-de-suport-i-informacio-g
	ratuit-3
GEO:39.4705;-0.39647
LOCATION:Casal Obrer i Popular de l'Olivereta - C/ Olímpia Arozena Torres\,
	 42\, baix esquerra
STATUS:CONFIRMED
CATEGORIES:olivereta,regularització
END:VEVENT
BEGIN:VEVENT
UID:9576@calendari.cc
SUMMARY:Regularització: Punt de Suport i Informació Gratuït
DTSTAMP:20260423T172539Z
DTSTART:20260528T160000Z
DTEND:20260528T190000Z
URL:https://calendari.cc/event/regularitzacio-punt-de-suport-i-informacio-g
	ratuit-4
GEO:39.4705;-0.39647
LOCATION:Casal Obrer i Popular de l'Olivereta - C/ Olímpia Arozena Torres\,
	 42\, baix esquerra
STATUS:CONFIRMED
CATEGORIES:olivereta,regularització
END:VEVENT
BEGIN:VEVENT
UID:9577@calendari.cc
SUMMARY:Regularització: Punt de Suport i Informació Gratuït
DTSTAMP:20260423T172539Z
DTSTART:20260604T160000Z
DTEND:20260604T190000Z
URL:https://calendari.cc/event/regularitzacio-punt-de-suport-i-informacio-g
	ratuit-5
GEO:39.4705;-0.39647
LOCATION:Casal Obrer i Popular de l'Olivereta - C/ Olímpia Arozena Torres\,
	 42\, baix esquerra
STATUS:CONFIRMED
CATEGORIES:olivereta,regularització
END:VEVENT
BEGIN:VEVENT
UID:9580@calendari.cc
SUMMARY:Regularització: Punt de Suport i Informació Gratuït
DTSTAMP:20260423T172539Z
DTSTART:20260611T160000Z
DTEND:20260611T190000Z
URL:https://calendari.cc/event/regularitzacio-punt-de-suport-i-informacio-g
	ratuit-6
GEO:39.4705;-0.39647
LOCATION:Casal Obrer i Popular de l'Olivereta - C/ Olímpia Arozena Torres\,
	 42\, baix esquerra
STATUS:CONFIRMED
CATEGORIES:olivereta,regularització
END:VEVENT
BEGIN:VEVENT
UID:9581@calendari.cc
SUMMARY:Regularització: Punt de Suport i Informació Gratuït
DTSTAMP:20260423T172539Z
DTSTART:20260618T160000Z
DTEND:20260618T190000Z
URL:https://calendari.cc/event/regularitzacio-punt-de-suport-i-informacio-g
	ratuit-7
GEO:39.4705;-0.39647
LOCATION:Casal Obrer i Popular de l'Olivereta - C/ Olímpia Arozena Torres\,
	 42\, baix esquerra
STATUS:CONFIRMED
CATEGORIES:olivereta,regularització
END:VEVENT
BEGIN:VEVENT
UID:9582@calendari.cc
SUMMARY:Regularització: Punt de Suport i Informació Gratuït
DTSTAMP:20260423T172539Z
DTSTART:20260625T160000Z
DTEND:20260625T190000Z
URL:https://calendari.cc/event/regularitzacio-punt-de-suport-i-informacio-g
	ratuit-8
GEO:39.4705;-0.39647
LOCATION:Casal Obrer i Popular de l'Olivereta - C/ Olímpia Arozena Torres\,
	 42\, baix esquerra
STATUS:CONFIRMED
CATEGORIES:olivereta,regularització
END:VEVENT
END:VCALENDAR
