BEGIN:VCALENDAR
VERSION:2.0
CALSCALE:GREGORIAN
PRODID:adamgibbons/ics
METHOD:PUBLISH
X-PUBLISHED-TTL:PT1H
BEGIN:VEVENT
UID:9510@calendari.cc
SUMMARY:Assessoria col.lectiva especial per prorrogar els contractes de llo
	guer
DTSTAMP:20260421T023846Z
DTSTART:20260421T163000Z
DTEND:20260421T190000Z
URL:https://calendari.cc/event/assessoria-collectiva-especial-per-prorrogar
	-els-contractes-de-lloguer
GEO:41.4303;2.18802
LOCATION:La Cinètika - 32\, Rambla de Fabra i Puig\, Sant Andreu\, Barcelon
	a\, 08030
STATUS:CONFIRMED
CATEGORIES:Assessoria habitatge,LaCinètika,prorrogalloguers,SantAndreu,Sant
	AndreuDelPalomar,Sindicat d’Habitatge de Sant Andreu,SindicatHabitatge
END:VEVENT
END:VCALENDAR
