BEGIN:VCALENDAR
VERSION:2.0
CALSCALE:GREGORIAN
PRODID:adamgibbons/ics
METHOD:PUBLISH
X-PUBLISHED-TTL:PT1H
BEGIN:VEVENT
UID:9607@calendari.cc
SUMMARY:LVZ SILENCIOSA + BABY JANE + PERLA NEGRA
DTSTAMP:20260424T210309Z
DTSTART:20260425T193000Z
URL:https://calendari.cc/event/lvz-silenciosa-baby-jane-perla-negra
GEO:41.4114;2.15321
LOCATION:Kasa de la muntanya - Av. del Santuari de Sant Josep de la muntany
	a
STATUS:CONFIRMED
CATEGORIES:concert,Gràcia,LaSalut,noise,punk
END:VEVENT
END:VCALENDAR
