BEGIN:VCALENDAR
VERSION:2.0
CALSCALE:GREGORIAN
PRODID:adamgibbons/ics
METHOD:PUBLISH
X-PUBLISHED-TTL:PT1H
BEGIN:VEVENT
UID:9612@calendari.cc
SUMMARY:Taller social Bicis Per A Totes
DTSTAMP:20260425T212749Z
DTSTART:20260501T163000Z
DTEND:20260501T183000Z
URL:https://calendari.cc/event/taller-social-bicis-per-a-totes-22
LOCATION:Taller Bicis Per A Totes - Carrer Xenillet\, 3. 46900 Torrent
STATUS:CONFIRMED
CATEGORIES:bicicleta,comunitari,reparació,solidaritat,suport mutu,torrent
END:VEVENT
END:VCALENDAR
