BEGIN:VCALENDAR
VERSION:2.0
CALSCALE:GREGORIAN
PRODID:adamgibbons/ics
METHOD:PUBLISH
X-PUBLISHED-TTL:PT1H
BEGIN:VEVENT
UID:9606@calendari.cc
SUMMARY:La Gozadera
DTSTAMP:20260424T210212Z
DTSTART:20260502T193000Z
DTEND:20260503T010000Z
URL:https://calendari.cc/event/la-gozadera
GEO:41.3752;2.16958
LOCATION:Sala paral-lel 62 - Avinguda paral-lel 62
STATUS:CONFIRMED
CATEGORIES:bachata,festa,PobleSec,queer,salsa,salsa cuir
END:VEVENT
END:VCALENDAR
