BEGIN:VCALENDAR
VERSION:2.0
CALSCALE:GREGORIAN
PRODID:adamgibbons/ics
METHOD:PUBLISH
X-PUBLISHED-TTL:PT1H
BEGIN:VEVENT
UID:9399@calendari.cc
SUMMARY:El año del boomerang. DESCOLONIZACIÓN O BARBARIE: el paradigma pale
	stino
DTSTAMP:20260422T124408Z
DTSTART:20260428T160000Z
DTEND:20260428T180000Z
URL:https://calendari.cc/event/el-ano-del-boomerang-descolonizacion-o-barba
	rie-el-paradigma-palestino
LOCATION:Facultad de Educación - Universidad de Zaragoza - Pedro Cerbuna 12
	. Zaragoza
STATUS:CONFIRMED
CATEGORIES:Palestina,RUxP,Unizar
END:VEVENT
END:VCALENDAR
