BEGIN:VCALENDAR
VERSION:2.0
CALSCALE:GREGORIAN
PRODID:adamgibbons/ics
METHOD:PUBLISH
X-PUBLISHED-TTL:PT1H
BEGIN:VEVENT
UID:9514@calendari.cc
SUMMARY:Kafeta\, charla y taller de genitalidad textil🧵🐚🪷
DTSTAMP:20260421T123931Z
DTSTART:20260424T160000Z
DTEND:20260424T213000Z
URL:https://calendari.cc/event/kafeta-charla-y-taller-de-genitalidad-textil
GEO:40.3918;-3.73106
LOCATION:ESLA Eko - 10\, Calle del Ánade\, San Isidro\, Carabanchel\, Madri
	d\, Área metropolitana de Madrid y Corredor del Henares\, Comunidad de Mad
	rid\, 28019\, EspañaDÍA DE CARRERAS
STATUS:CONFIRMED
CATEGORIES:Costura,Eko,kafeta,Madrid,Pinchada,taller,Transfeminista
END:VEVENT
END:VCALENDAR
