BEGIN:VCALENDAR
VERSION:2.0
CALSCALE:GREGORIAN
PRODID:adamgibbons/ics
METHOD:PUBLISH
X-PUBLISHED-TTL:PT1H
BEGIN:VEVENT
UID:9544@calendari.cc
SUMMARY:Concert punk: Nagasaki Sunrise\, Dominación\, Kadaver\, Yrascible i
	 Defugi
DTSTAMP:20260424T121427Z
DTSTART:20260425T170000Z
URL:https://calendari.cc/event/concert-punk-nagasaki-sunrise-dominacion-kad
	aver-yrascible-i-defugi
GEO:41.447;2.19021
LOCATION:Rock and Trini - Vía Favencia\, 441\, Barcelona
STATUS:CONFIRMED
CATEGORIES:concert,LaTrini,punk
END:VEVENT
END:VCALENDAR
