BEGIN:VCALENDAR
VERSION:2.0
CALSCALE:GREGORIAN
PRODID:adamgibbons/ics
METHOD:PUBLISH
X-PUBLISHED-TTL:PT1H
BEGIN:VEVENT
UID:9611@calendari.cc
SUMMARY:III ENCUENTRO DE ARTE Y CREATIVIDAD EN CARABANCHEL
DTSTAMP:20260424T222335Z
DTSTART:20260522T160000Z
DTEND:20260524T200000Z
URL:https://calendari.cc/event/iii-encuentro-de-arte-y-creatividad-en-carab
	anchel
GEO:40.3918;-3.73106
LOCATION:ESLA Eko - 10\, Calle del Ánade\, San Isidro\, Carabanchel\, Madri
	d\, Área metropolitana de Madrid y Corredor del Henares\, Comunidad de Mad
	rid\, 28019\, EspañaDÍA DE CARRERAS
STATUS:CONFIRMED
CATEGORIES:Arte,creatividad,Encuentro,Madrid
END:VEVENT
END:VCALENDAR
