BEGIN:VCALENDAR
VERSION:2.0
CALSCALE:GREGORIAN
PRODID:adamgibbons/ics
METHOD:PUBLISH
X-PUBLISHED-TTL:PT1H
BEGIN:VEVENT
UID:9405@calendari.cc
SUMMARY:Vente con tu Guitarrra
DTSTAMP:20260420T062621Z
DTSTART:20260423T160000Z
DTEND:20260423T190000Z
URL:https://calendari.cc/event/vente-con-tu-guitarrra
GEO:40.3918;-3.73106
LOCATION:ESLA Eko - 10\, Calle del Ánade\, San Isidro\, Carabanchel\, Madri
	d\, Área metropolitana de Madrid y Corredor del Henares\, Comunidad de Mad
	rid\, 28019\, EspañaDÍA DE CARRERAS
STATUS:CONFIRMED
CATEGORIES:Madrid
END:VEVENT
END:VCALENDAR
