BEGIN:VCALENDAR
VERSION:2.0
CALSCALE:GREGORIAN
PRODID:adamgibbons/ics
METHOD:PUBLISH
X-PUBLISHED-TTL:PT1H
BEGIN:VEVENT
UID:9610@calendari.cc
SUMMARY:Pantumacona
DTSTAMP:20260424T211715Z
DTSTART:20260430T220000Z
DTEND:20260503T215500Z
URL:https://calendari.cc/event/pantumacona
LOCATION:Descentralitzat - A cap puesto en concret
STATUS:CONFIRMED
CATEGORIES:
END:VEVENT
END:VCALENDAR
