BEGIN:VCALENDAR
VERSION:2.0
CALSCALE:GREGORIAN
PRODID:adamgibbons/ics
METHOD:PUBLISH
X-PUBLISHED-TTL:PT1H
BEGIN:VEVENT
UID:9601@calendari.cc
SUMMARY:Autrem el desnonament de l'Ani!
DTSTAMP:20260424T171931Z
DTSTART:20260428T070000Z
DTEND:20260428T133000Z
URL:https://calendari.cc/event/autrem-el-desnonament-de-lani
GEO:41.4351;2.19039
LOCATION:Carrer d'Otger\, 11 - Carrer d'Otger\, 11\, Sant Andreu de Palomar
	\, Sant Andreu\, Barcelona\, Barcelonès\, Barcelona\, Catalunya\, 08030\, 
	España
STATUS:CONFIRMED
CATEGORIES:Bon Pastor,BonPastor,Desnonament,SantAndreuDelPalomar,Sindicat d
	’Habitatge de Sant Andreu,SindicatHabitatge
END:VEVENT
END:VCALENDAR
