BEGIN:VCALENDAR
VERSION:2.0
CALSCALE:GREGORIAN
PRODID:adamgibbons/ics
METHOD:PUBLISH
X-PUBLISHED-TTL:PT1H
BEGIN:VEVENT
UID:9509@calendari.cc
SUMMARY:Solidaritat amb el CzechElbit10
DTSTAMP:20260421T025109Z
DTSTART:20260422T163000Z
DTEND:20260422T190000Z
URL:https://calendari.cc/event/solidaritat-amb-el-czechelbit10
LOCATION:Carrer de Mallorca\, 272 - Carrer de Mallorca\, 272 Districte: Eix
	ample Barri: la Dreta de l'Eixample Població: Barcelona
STATUS:CONFIRMED
CATEGORIES:boicot israel,czchelbit10,FreePalestine,manifestació,PalestinaLl
	iure,UAB Acció per Palestina
END:VEVENT
END:VCALENDAR
