BEGIN:VCALENDAR
VERSION:2.0
CALSCALE:GREGORIAN
PRODID:adamgibbons/ics
METHOD:PUBLISH
X-PUBLISHED-TTL:PT1H
BEGIN:VEVENT
UID:9481@calendari.cc
SUMMARY:DIA DEL LLIBRE A LA POLILLA
DTSTAMP:20260420T144941Z
DTSTART:20260423T090000Z
DTEND:20260423T170000Z
URL:https://calendari.cc/event/dia-del-llibre-a-la-polilla
GEO:41.4027;2.15815
LOCATION:La Polilla - Plaça Revolució\, Barcelona
STATUS:CONFIRMED
CATEGORIES:
END:VEVENT
BEGIN:VEVENT
UID:9484@calendari.cc
SUMMARY:🦋ACTIVITATS POLILLA MAIG 🦋
DTSTAMP:20260420T144941Z
DTSTART:20260425T090000Z
DTEND:20260425T120000Z
URL:https://calendari.cc/event/activitats-polilla-maig
GEO:41.4027;2.15815
LOCATION:La Polilla - Plaça Revolució\, Barcelona
STATUS:CONFIRMED
CATEGORIES:
END:VEVENT
END:VCALENDAR
