BEGIN:VCALENDAR
VERSION:2.0
CALSCALE:GREGORIAN
PRODID:adamgibbons/ics
METHOD:PUBLISH
X-PUBLISHED-TTL:PT1H
BEGIN:VEVENT
UID:9478@calendari.cc
SUMMARY:VI Feria de la Tierra
DTSTAMP:20260422T085822Z
DTSTART:20260509T090000Z
DTEND:20260509T190000Z
URL:https://calendari.cc/event/vi-feria-de-la-tierra
LOCATION:Paseo del Espolón - Paseo del Espolón
STATUS:CONFIRMED
CATEGORIES:
END:VEVENT
END:VCALENDAR
