BEGIN:VCALENDAR
VERSION:2.0
CALSCALE:GREGORIAN
PRODID:adamgibbons/ics
METHOD:PUBLISH
X-PUBLISHED-TTL:PT1H
BEGIN:VEVENT
UID:9467@calendari.cc
SUMMARY:Laboratorio de Creación Audiovisual
DTSTAMP:20260419T205209Z
DTSTART:20260420T170000Z
URL:https://calendari.cc/event/laboratorio-de-creacion-audiovisual
LOCATION:Espacio Tangente. - C./ Martín Jalón \, 10
STATUS:CONFIRMED
CATEGORIES:
END:VEVENT
BEGIN:VEVENT
UID:9468@calendari.cc
SUMMARY:HIP HOP MUJERES Y DISIDENCIAS
DTSTAMP:20260419T205209Z
DTSTART:20260421T160000Z
URL:https://calendari.cc/event/hip-hop-mujeres-y-disidencias
LOCATION:Espacio Tangente. - C./ Martín Jalón \, 10
STATUS:CONFIRMED
CATEGORIES:
END:VEVENT
END:VCALENDAR
