BEGIN:VCALENDAR
VERSION:2.0
CALSCALE:GREGORIAN
PRODID:adamgibbons/ics
METHOD:PUBLISH
X-PUBLISHED-TTL:PT1H
BEGIN:VEVENT
UID:9466@calendari.cc
SUMMARY:Concentración por los comedores de los centros de dia
DTSTAMP:20260419T204758Z
DTSTART:20260420T100000Z
URL:https://calendari.cc/event/concentracion-por-los-comedores-de-los-centr
	os-de-dia
LOCATION:Frente a Junta de Castilla y León - Glorieta Bilbao
STATUS:CONFIRMED
CATEGORIES:
END:VEVENT
END:VCALENDAR
