BEGIN:VCALENDAR
VERSION:2.0
CALSCALE:GREGORIAN
PRODID:adamgibbons/ics
METHOD:PUBLISH
X-PUBLISHED-TTL:PT1H
BEGIN:VEVENT
UID:9463@calendari.cc
SUMMARY:PARDALEJANT - Ruta ornitològica per l'horta de Benimaclet
DTSTAMP:20260419T153722Z
DTSTART:20260421T163000Z
DTEND:20260421T183000Z
URL:https://calendari.cc/event/pardalejant-ruta-ornitologica-per-lhorta-de-
	benimaclet
LOCATION:Jardí Lluerna (Benimaclet) - Descampat de Benimaclet
STATUS:CONFIRMED
CATEGORIES:
END:VEVENT
END:VCALENDAR
