BEGIN:VCALENDAR
VERSION:2.0
CALSCALE:GREGORIAN
PRODID:adamgibbons/ics
METHOD:PUBLISH
X-PUBLISHED-TTL:PT1H
BEGIN:VEVENT
UID:7275@calendari.cc
SUMMARY:Fiesta del Sol
DTSTAMP:20260419T211047Z
DTSTART:20260509T090000Z
DTEND:20260509T213000Z
URL:https://calendari.cc/event/fiesta-del-sol
LOCATION:PARQUE EMILIO LACAMBRA - CALLE CUARTE (Parque calle Cuarte\, Torre
	ro)
STATUS:CONFIRMED
CATEGORIES:
END:VEVENT
END:VCALENDAR
