BEGIN:VCALENDAR
VERSION:2.0
CALSCALE:GREGORIAN
PRODID:adamgibbons/ics
METHOD:PUBLISH
X-PUBLISHED-TTL:PT1H
BEGIN:VEVENT
UID:9501@calendari.cc
SUMMARY:Assemblea Grup d'Habitatge de Sants
DTSTAMP:20260424T160813Z
DTSTART:20260427T153000Z
URL:https://calendari.cc/event/assemblea-grup-dhabitatge-de-sants-1
LOCATION:plaça de Joan Corrades - Plaça Joan Corrades\, Sants\, Barcelona
STATUS:CONFIRMED
CATEGORIES:
END:VEVENT
END:VCALENDAR
