BEGIN:VCALENDAR
VERSION:2.0
CALSCALE:GREGORIAN
PRODID:adamgibbons/ics
METHOD:PUBLISH
X-PUBLISHED-TTL:PT1H
BEGIN:VEVENT
UID:9473@calendari.cc
SUMMARY:THEY LIVE (1988) dir.John Carpenter
DTSTAMP:20260420T010808Z
DTSTART:20260426T170000Z
DTEND:20260426T190000Z
DESCRIPTION:THEY LIVE ("ESTÁN VIVOS"\, 1988) DIR.JOHN CARPENTER\, DUR.94 MI
	N.\n\nUn home troba unes ulleres de sol i en posar-les-hi descobreix que u
	ns\nalienígenes sota la forma d'importants personatges de la vida política
	 i social\nhan pres la Terra i pretenen convertir a la humanitat en una ra
	ça d'esclaus.
URL:https://calendari.cc/event/they-live-1988-dirjohn-carpenter
GEO:41.406;2.15676
LOCATION:Ateneu Llibertari de Gràcia - 5 B2\, Carrer de l'Alzina\, Gràcia\,
	 Barcelona\, 08024
STATUS:CONFIRMED
CATEGORIES:cinefòrum,Gràcia
X-ALT-DESC;FMTTYPE=text/html:<h3>THEY LIVE ("Están vivos", 1988) dir.John C
	arpenter, dur.94 min.</h3><p>Un home troba unes ulleres de sol i en posar-
	les-hi descobreix que uns alienígenes sota la forma d'importants personatg
	es de la vida política i social han pres la Terra i pretenen convertir a l
	a humanitat en una raça d'esclaus.</p>
BEGIN:VALARM
ACTION:DISPLAY
DESCRIPTION:THEY LIVE (1988) dir.John Carpenter
TRIGGER:-PT1H
END:VALARM
END:VEVENT
END:VCALENDAR
