BEGIN:VCALENDAR
VERSION:2.0
CALSCALE:GREGORIAN
PRODID:adamgibbons/ics
METHOD:PUBLISH
X-PUBLISHED-TTL:PT1H
BEGIN:VEVENT
UID:9489@calendari.cc
SUMMARY:Taller de lectura Conocimiento y Libertad con 'La mala costumbre' d
	e Alana S. Portero
DTSTAMP:20260420T153124Z
DTSTART:20260504T170000Z
DTEND:20260504T183000Z
DESCRIPTION:El lunes\, día 4 de mayo\, a las 19 horas nos reuniremos en la 
	librería La Pantera\nRossa para comentar en el Taller de lectura Conocimie
	nto y Libertad\, el libro La\nmala costumbre de Alana S. Portero\, editado
	 por Seix Barral en 2023.\n\nHay libros necesarios\, y este es uno de ello
	s. Lo es porque da voz a un\ncolectivo que\, en términos literarios\, apen
	as la tenía\, y porque puede\nconvertirse en un referente\, incluso cabe p
	ensar que\, en ciertos casos\, este\nlibro podría llegar a salvar vidas.\n
	\nEn sus primeras páginas\, La mala costumbre parece avanzar con cierta va
	cilación\,\ncomo si no tuviera del todo claro a qué género adscribirse —cr
	ónica social\,\nmemorias o novela—. Sin embargo\, al concluirla\, se entie
	nde que esa indefinición\nresponde a su voluntad de situarnos en un tiempo
	\, los años 80\, un espacio\, el\nbarrio obrero de San Blas y una realidad
	 social concreta: la de una clase\ntrabajadora a la que la Transición dejó
	 de lado.\n\nLa historia sigue a una chica trans que observa el mundo desd
	e el armario\,\natrapada en una masculinidad impuesta que funciona a la ve
	z como cárcel y como\nrefugio. Desde ahí\, deberá abrirse camino en el apr
	endizaje del amor y la\nsexualidad\, mientras intenta protegerse de las mú
	ltiples violencias que acechan\na quienes se apartan de la norma.\n\nCon t
	odo\, no estamos solo ante el relato de un recorrido individual\, sino\nta
	mbién ante un retrato y una reivindicación colectiva. Por un lado\, destac
	a la\nred de sororidad que se teje entre los personajes\; por otro\, el fu
	erte\ncomponente de clase que atraviesa la novela\, recuperando las violen
	cias y las\ninvisibilidades de la España obrera de los años 80: la epidemi
	a de heroína\, la\nviolencia de género o la precariedad extrema\, pero tam
	bién la solidaridad\, el\norgullo de pertenencia y una ética del trabajo p
	rofundamente arraigada.\n\nNo se trata\, por tanto\, únicamente de una “no
	vela trans”\, sino de una obra que\naborda múltiples dimensiones del perso
	naje protagonista y de su entorno. Es una\nlectura tan impactante como con
	movedora\, que funciona a la vez como retrato\nsocial y como reivindicació
	n colectiva\, abordando numerosos temas que marcaron a\ntoda una época.\n\
	nAlana S. Portero es una escritora\, poeta\, dramaturga y directora escéni
	ca\nespañola que escribe sobre cultura\, feminismo y activismo LGTB con un
	 enfoque\nconcreto en la realidad de las mujeres trans. Nacida en Madrid y
	 criada en el\nbarrio de San Blas\, Alana Portero es una autora que no tem
	e hablar desde la\nhonestidad. Su trabajo previo como poeta y su activa pr
	esencia en el ámbito\ncultural y social la han situado como un referente e
	n la lucha por la\nvisibilidad trans y la igualdad. Es una figura muy rele
	vante de la literatura\nactual.\n\nLa participación es gratuita y el talle
	r tiene lugar los lunes primeros de mes.\nSi deseas participar escribe a: 
	tallerdelecturamiercoles@gmail.com\n[tallerdelecturamiercoles@gmail.com]\n
	\nPuedes ver las sesiones próximas en:\nhttps://lapanterarossa.net/taller-
	de-lectura-conocimiento-y-libertad-2025-2026\n[https://lapanterarossa.net/
	taller-de-lectura-conocimiento-y-libertad-2025-2026]
URL:https://calendari.cc/event/taller-de-lectura-conocimiento-y-libertad-co
	n-la-mala-costumbre-de-alana-s-portero
LOCATION:La Pantera Rossa - Calle San Vicente de Paúl 28\, Zaragoza
STATUS:CONFIRMED
CATEGORIES:
X-ALT-DESC;FMTTYPE=text/html:<p>El lunes, día <strong>4 de mayo, a las 19 h
	oras</strong> nos reuniremos en la librería La Pantera Rossa para comentar
	 en el <strong>Taller de lectura Conocimiento y Libertad</strong>, el libr
	o <strong><em>La mala costumbre</em> de Alana S. Portero</strong>, editado
	 por Seix Barral en 2023.</p><p>Hay libros necesarios, y este es uno de el
	los. Lo es porque da voz a un colectivo que, en términos literarios, apena
	s la tenía, y porque puede convertirse en un referente, incluso cabe pensa
	r que, en ciertos casos, este libro podría llegar a salvar vidas.</p><p>En
	 sus primeras páginas, La mala costumbre parece avanzar con cierta vacilac
	ión, como si no tuviera del todo claro a qué género adscribirse —crónica s
	ocial, memorias o novela—. Sin embargo, al concluirla, se entiende que esa
	 indefinición responde a su voluntad de situarnos en un tiempo, los años 8
	0, un espacio, el barrio obrero de San Blas y una realidad social concreta
	: la de una clase trabajadora a la que la Transición dejó de lado.</p><p>L
	a historia sigue a una chica trans que observa el mundo desde el armario, 
	atrapada en una masculinidad impuesta que funciona a la vez como cárcel y 
	como refugio. Desde ahí, deberá abrirse camino en el aprendizaje del amor 
	y la sexualidad, mientras intenta protegerse de las múltiples violencias q
	ue acechan a quienes se apartan de la norma.</p><p>Con todo, no estamos so
	lo ante el relato de un recorrido individual, sino también ante un retrato
	 y una reivindicación colectiva. Por un lado, destaca la red de sororidad 
	que se teje entre los personajes; por otro, el fuerte componente de clase 
	que atraviesa la novela, recuperando las violencias y las invisibilidades 
	de la España obrera de los años 80: la epidemia de heroína, la violencia d
	e género o la precariedad extrema, pero también la solidaridad, el orgullo
	 de pertenencia y una ética del trabajo profundamente arraigada.</p><p>No 
	se trata, por tanto, únicamente de una “novela trans”, sino de una obra qu
	e aborda múltiples dimensiones del personaje protagonista y de su entorno.
	 Es una lectura tan impactante como conmovedora, que funciona a la vez com
	o retrato social y como reivindicación colectiva, abordando numerosos tema
	s que marcaron a toda una época.</p><p>Alana S. Portero es una escritora, 
	poeta, dramaturga y directora escénica española que escribe sobre cultura,
	 feminismo y activismo LGTB con un enfoque concreto en la realidad de las 
	mujeres trans. Nacida en Madrid y criada en el barrio de San Blas, Alana P
	ortero es una autora que no teme hablar desde la honestidad. Su trabajo pr
	evio como poeta y su activa presencia en el ámbito cultural y social la ha
	n situado como un referente en la lucha por la visibilidad trans y la igua
	ldad. Es una figura muy relevante de la literatura actual.</p><p><strong>L
	a participación es gratuita </strong>y el taller tiene lugar los lunes pri
	meros de mes. Si deseas participar escribe a: <a target="_blank" href="mai
	lto:tallerdelecturamiercoles@gmail.com">tallerdelecturamiercoles@gmail.com
	</a></p><p><strong>Puedes ver las sesiones próximas en:</strong> <a target
	="_blank" href="https://lapanterarossa.net/taller-de-lectura-conocimiento-
	y-libertad-2025-2026">https://lapanterarossa.net/taller-de-lectura-conocim
	iento-y-libertad-2025-2026</a></p>
BEGIN:VALARM
ACTION:DISPLAY
DESCRIPTION:Taller de lectura Conocimiento y Libertad con 'La mala costumbr
	e' de Alana S. Portero
TRIGGER:-PT1H
END:VALARM
END:VEVENT
END:VCALENDAR
