BEGIN:VCALENDAR
VERSION:2.0
CALSCALE:GREGORIAN
PRODID:adamgibbons/ics
METHOD:PUBLISH
X-PUBLISHED-TTL:PT1H
BEGIN:VEVENT
UID:9486@calendari.cc
SUMMARY:Support and participate in the defense of the Community of Squatted
	 Prosfygika in Athens and the self-organized restoration of the neighborho
	od
DTSTAMP:20260420T133908Z
DTSTART:20260506T220000Z
DTEND:20260507T215500Z
DESCRIPTION:In the heart of Athens\, the  Community of Squatted Prosfygika 
	has hosted\,\nsheltered\, fed\, and supported thousands of people over the
	 past 15 years. It is\none of the largest self-organized and liberated nei
	ghborhoods in Europe.\n\nThe Community is becoming stronger\, but so is th
	e repression. Currently\,\nProsfygika is under threat of attack and evicti
	on. Over the past decade\, this is\nthe fiths time that the state and the 
	region have attempted to evict and loot\nProsfygika. This time\, the threa
	t seems the most serious and is about to be\nexecuted immediately.\n\nOver
	 the past year\, the community has already publicly announced that it will
	\nproceed with the restoration and renovation of the historical buildings\
	, funded\nand organized autonomously. This project is being carried out wi
	th the\nparticipation and support of architects\, civil engineers\, and ot
	her technical\nspecialists.\n\nEvery restored façade\, every repaired wind
	ow\, and every balcony contributes to\nthe defense and future of the entir
	e community\, and thus also to the communal\nway of life it offers.\n\nThe
	refore\, our comrade Aristotelis Chantzis decided on february 5 2026 to go
	 in\nto a hunger strike until death for the defense of life. His demands a
	re\n\n1) The immediate cancellation of the contract by the region of attic
	a\n2) All resdients of Prosfygika to remain in their homes\, in the place 
	and area\nwhere they live and have established social\, cultural and organ
	ical ties\n3) concrete guarantees to be given for the restoration of Prosf
	ygika by the\nnon-profit civil law company "katoikoi kai filoi prosfygikon
	 L. Alexandras non\nprofit civil law company" with its own self-financing!
	 - No public funds for the\n"redevelopment" of Prosfygika !\n\nOn the firs
	t of may\, another comrade will beginn its hungerstrike until death.\n\nWe
	 call on all internationalists and defenders of life to support and\nparti
	cipate in the defense of the community\, whether by coming to Athens\,\npa
	rticipating in our internationalist campaign #saveprosfygika or with other
	\nforms of actions.\n\nWe ask everyone to help us with this call for donat
	ion to put the plan of social\nself defense into practice !\n\nOur answer 
	to repression is creation\n\nEither we will win or we will win\n\n-- The f
	uture lies in the struggle\nInternationalist #SaveProsfygika\n\nhttps://sa
	veprosfygika.gr/ [https://saveprosfygika.gr/] ·\nsave-prosfygika-internati
	onalist@systemli.org\n[save-prosfygika-internationalist@systemli.org]\nhtt
	ps://mastodon.social/@intsaveprosfygika\n[https://mastodon.social/@intsave
	prosfygika]
URL:https://calendari.cc/event/support-and-participate-in-the-defense-of-th
	e-community-of-squatted-prosfygika-in-athens-and-the-self-organized-restor
	ation-of-the-neighborhood
LOCATION:online - https://saveprosfygika.gr/index.php/en/save-prosfygika/
STATUS:CONFIRMED
CATEGORIES:
X-ALT-DESC;FMTTYPE=text/html:<p>In the heart of Athens, the&nbsp; Community
	 of Squatted Prosfygika has  hosted, sheltered, fed, and supported thousan
	ds of people over the past  15 years. It is one of the largest self-organi
	zed and liberated  neighborhoods in Europe. <br> <br>The Community is beco
	ming stronger, but so is the repression. Currently,  Prosfygika is under t
	hreat of attack and eviction. Over the past decade,  this is the fiths tim
	e that the state and the region have attempted to  evict and loot Prosfygi
	ka. This time, the threat seems the most serious  and is about to be execu
	ted immediately. <br> <br>Over the past year, the community has already pu
	blicly announced that it  will proceed with the restoration and renovation
	 of the historical  buildings, funded and organized autonomously. This pro
	ject is being  carried out with the participation and support of architect
	s, civil  engineers, and other technical specialists. <br> <br>Every resto
	red façade, every repaired window, and every balcony  contributes to the d
	efense and future of the entire community, and thus  also to the communal 
	way of life it offers. <br> <br>Therefore, our comrade Aristotelis Chantzi
	s decided on february 5 2026  to go in to a hunger strike until death for 
	the defense of life. His  demands are <br> <br>1) The immediate cancellati
	on of the contract by the region of attica <br>2) All resdients of Prosfyg
	ika to remain in their homes, in the place  and area where they live and h
	ave established social, cultural and  organical ties <br>3) concrete guara
	ntees to be given for the restoration of Prosfygika by  the non-profit civ
	il law company "katoikoi kai filoi prosfygikon L.  Alexandras non profit c
	ivil law company" with its own self-financing! -  No public funds for the 
	"redevelopment" of Prosfygika ! <br> <br>On the first of may, another comr
	ade will beginn its hungerstrike until  death. <br> <br>We call on all int
	ernationalists and defenders of life to support and  participate in the de
	fense of the community, whether by coming to  Athens, participating in our
	 internationalist campaign #saveprosfygika  or with other forms of actions
	. <br> <br>We ask everyone to help us with this call for donation to put t
	he plan  of social self defense into practice ! <br> <br>Our answer to rep
	ression is creation <br> <br>Either we will win or we will win <br> <br>--
	&nbsp;The future lies in the struggle <br>Internationalist #SaveProsfygika
	 <br> <br><a href="https://saveprosfygika.gr/" target="_blank">https://sav
	eprosfygika.gr/</a> ·  <a href="mailto:save-prosfygika-internationalist@sy
	stemli.org" target="_blank">save-prosfygika-internationalist@systemli.org<
	/a> <br><a href="https://mastodon.social/@intsaveprosfygika" target="_blan
	k">https://mastodon.social/@intsaveprosfygika</a></p>
BEGIN:VALARM
ACTION:DISPLAY
DESCRIPTION:Support and participate in the defense of the Community of Squa
	tted Prosfygika in Athens and the self-organized restoration of the neighb
	orhood
TRIGGER:-PT1H
END:VALARM
END:VEVENT
END:VCALENDAR
