BEGIN:VCALENDAR
VERSION:2.0
CALSCALE:GREGORIAN
PRODID:adamgibbons/ics
METHOD:PUBLISH
X-PUBLISHED-TTL:PT1H
BEGIN:VEVENT
UID:9496@calendari.cc
SUMMARY:Presentación del Cuaderno de Estrategia núm. 4 "Crítica de los movi
	mientos sociales"
DTSTAMP:20260420T185143Z
DTSTART:20260424T170000Z
DTEND:20260424T180000Z
DESCRIPTION:Este viernes montamos en la casa invisible este espacio de disc
	usión junto a\n@zonaestrategia [https://www.instagram.com/zonaestrategia/]
	 y @suburbia\n[https://www.instagram.com/suburbia/] para presentar el #Cua
	dernosEstrategia\n[https://www.instagram.com/explore/tags/cuadernosestrate
	gia/] 4. Presentan el\ncontenido del Cuaderno Guille García (@zonaestrateg
	ia\n[https://www.instagram.com/zonaestrategia/]) y Kike España (@librerias
	uburbia\n[https://www.instagram.com/libreriasuburbia/] ).\n\nCon los aport
	es de esta revista\, se pretende contribuir a una reflexión sobre el\npara
	digma de los movimientos sociales en el que la mayoría de colectivos\nauto
	organizados se han considerado encuadrados en las últimas décadas. La\ncrí
	tica a la integración en las formas de gobierno neoliberales progresistas 
	y\nla crítica al identitarismo individualista agraviado pretende ser un re
	vulsivo\npara repensar nuestras prácticas y construir nuevas formas de luc
	ha. Si algo no\nfunciona\, no podemos seguir repitiendo lo mismo. Apelamos
	 a la imaginación\npolítica y a nuevas alianzas y composiciones de nuestra
	 clase\, sexualizada y\nracializada\, para afrontar las luchas por venir. 
	Esperamos que estos trabajos\nsirvan a este objetivo.
URL:https://calendari.cc/event/presentacion-del-cuaderno-de-estrategia-num-
	4-critica-de-los-movimientos-sociales
GEO:36.7228;-4.42269
LOCATION:Patio Social - 8\, Calle Andrés Pérez\, Centro Histórico\, Centro\
	, Málaga\, Málaga-Costa del Sol\, Málaga\, Andalucía\, 29008\, España
STATUS:CONFIRMED
CATEGORIES:#Andalucía,#Málaga
X-ALT-DESC;FMTTYPE=text/html:<p>Este viernes montamos en la casa invisible 
	este espacio de discusión junto a <a target="_blank" href="https://www.ins
	tagram.com/zonaestrategia/">@zonaestrategia</a> y <a target="_blank" href=
	"https://www.instagram.com/suburbia/">@suburbia</a> para presentar el <a t
	arget="_blank" href="https://www.instagram.com/explore/tags/cuadernosestra
	tegia/">#CuadernosEstrategia</a> 4. Presentan el contenido del Cuaderno Gu
	ille García (<a target="_blank" href="https://www.instagram.com/zonaestrat
	egia/">@zonaestrategia</a>) y Kike España (<a target="_blank" href="https:
	//www.instagram.com/libreriasuburbia/">@libreriasuburbia</a> ).<br><br>Con
	 los aportes de esta revista, se pretende contribuir a una reflexión sobre
	 el paradigma de los movimientos sociales en el que la mayoría de colectiv
	os autoorganizados se han considerado encuadrados en las últimas décadas. 
	La crítica a la integración en las formas de gobierno neoliberales progres
	istas y la crítica al identitarismo individualista agraviado pretende ser 
	un revulsivo para repensar nuestras prácticas y construir nuevas formas de
	 lucha. Si algo no funciona, no podemos seguir repitiendo lo mismo. Apelam
	os a la imaginación política y a nuevas alianzas y composiciones de nuestr
	a clase, sexualizada y racializada, para afrontar las luchas por venir. Es
	peramos que estos trabajos sirvan a este objetivo.</p>
BEGIN:VALARM
ACTION:DISPLAY
DESCRIPTION:Presentación del Cuaderno de Estrategia núm. 4 "Crítica de los 
	movimientos sociales"
TRIGGER:-PT1H
END:VALARM
END:VEVENT
END:VCALENDAR
