BEGIN:VCALENDAR
VERSION:2.0
CALSCALE:GREGORIAN
PRODID:adamgibbons/ics
METHOD:PUBLISH
X-PUBLISHED-TTL:PT1H
BEGIN:VEVENT
UID:9623@calendari.cc
SUMMARY:Presentación de 'Sin Aire' de David Sánchez Lora
DTSTAMP:20260425T162052Z
DTSTART:20260509T170000Z
DTEND:20260509T190000Z
DESCRIPTION:in Aire cuenta la historia de Marco\, un hombre corriente cuya 
	vida da un giro\nradical cuando una catástrofe invisible convierte el aire
	 en un veneno letal.\nMientras la humanidad cae fulminada sin comprender q
	ué ocurre\, Marco sobrevive\npor una casualidad: el sistema de recirculaci
	ón de aire de su coche. Sabe que\ntiene poco tiempo\, y lo único que impor
	ta es rescatar a su esposa Sara y a su\nhija Myriam\, atrapadas en un tren
	 presurizado en algún lugar entre Madrid y\nZaragoza.\n\nEn su camino haci
	a lo desconocido\, Marco se enfrenta al colapso del orden\nsocial\, al vac
	ío que dejan los muertos y a la desesperación de los vivos.\nEncuentra ref
	ugio temporal en una residencia\, comparte el oxígeno con su padre y\nuna 
	anciana\, y presencia los sacrificios necesarios para seguir adelante. Más
	\ntarde\, forma un grupo con otros supervivientes —entre ellos Iliam\, Car
	la\, Yuna y\nSanty— con quienes descubre que una extraña forma de moho per
	mite respirar fuera\nsin bombonas\, desvelando una posible clave para sobr
	evivir.\nJuntos emprenden un viaje lleno de peligros\, amenazas humanas\, 
	animales\natrapados\, enfermos errantes\, traiciones\, descubrimientos cie
	ntíficos\nrudimentarios y momentos de inesperada ternura. La historia se d
	esarrolla en un\npaisaje apocalíptico donde el aire\, que antes era invisi
	ble e inocente\, se ha\nconvertido en el enemigo más cruel.\nEntre muertes
	\, decisiones difíciles y una naturaleza hostil\, Marco y su grupo se\nafe
	rran a un único motor: la esperanza. Porque mientras haya alguien por quie
	n\nrespirar\, vale la pena luchar.\n\nPresentación del libro 'Sin Aire' (L
	étrame grupo editorial) de David Sánchez\nLora\, sábado 9 de mayo a las 19
	.00 horas en La Pantera Rossa con la presencia\ndel autor.\n\nDavid Sánche
	z Lora (Zaragoza\, 1980). Escritor y director. Ha desarrollado su\ntrayect
	oria entre el cine y la literatura\, destacando por obras que fusionan la\
	ncrítica social\, la tensión narrativa y la profundidad emocional. Se form
	ó en la\nAcademia de Cine Un Perro Andaluz\, donde consolidó su mirada aut
	oral y dirigió\nel cortometraje Calle Venecia (2016)\, una pieza con fuert
	e carga social y\nestética urbana. Anteriormente\, debutó como cineasta en
	 el Club C.Bohalar con\nTodo por la coca (2001)\, al que siguieron La list
	a del  n del mundo (2017) y el\ndocumental 60 años Santo Domingo de Silos
	 (2019)\, reafirmando su compromiso con\nhistorias que re ejan las contra
	dicciones del mundo actual. En el ámbito\nliterario\, publicó su primera n
	ovela\, Falso dinero\, falsa moral (2022)\, una obra\nque explora los dile
	mas éticos de la sociedad contemporánea a través de una\ntrama de crimen\,
	 poder y decadencia moral. Apasionado por las historias que\nconmueven\, p
	rovocan y despiertan conciencia\, su narrativa se caracteriza por el\nreal
	ismo\, la construcción de personajes complejos y los giros inesperados.\nA
	ctualmente reside en Zaragoza y trabaja en nuevos proyectos que abarcan la
	\nletrame.com [http://letrame.com] ciencia ficción\, la novela negra y el 
	drama\npsicológico.
URL:https://calendari.cc/event/presentacion-de-sin-aire-de-david-sanchez-lo
	ra
LOCATION:La Pantera Rossa - Calle San Vicente de Paúl 28\, Zaragoza
STATUS:CONFIRMED
CATEGORIES:
X-ALT-DESC;FMTTYPE=text/html:<p><em>in Aire cuenta la historia de Marco, un
	 hombre corriente cuya vida da un giro radical cuando una catástrofe invis
	ible convierte el aire en un veneno letal. Mientras la humanidad cae fulmi
	nada sin comprender qué ocurre, Marco sobrevive por una casualidad: el sis
	tema de recirculación de aire de su coche. Sabe que tiene poco tiempo, y l
	o único que importa es rescatar a su esposa Sara y a su hija Myriam, atrap
	adas en un tren presurizado en algún lugar entre Madrid y Zaragoza.</em></
	p><p><em>En su camino hacia lo desconocido, Marco se enfrenta al colapso d
	el orden social, al vacío que dejan los muertos y a la desesperación de lo
	s vivos. Encuentra refugio temporal en una residencia, comparte el oxígeno
	 con su padre y una anciana, y presencia los sacrificios necesarios para s
	eguir adelante. Más tarde, forma un grupo con otros supervivientes —entre 
	ellos Iliam, Carla, Yuna y Santy— con quienes descubre que una extraña for
	ma de moho permite respirar fuera sin bombonas, desvelando una posible cla
	ve para sobrevivir.</em><br><em>Juntos emprenden un viaje lleno de peligro
	s, amenazas humanas, animales atrapados, enfermos errantes, traiciones, de
	scubrimientos científicos rudimentarios y momentos de inesperada ternura. 
	La historia se desarrolla en un paisaje apocalíptico donde el aire, que an
	tes era invisible e inocente, se ha convertido en el enemigo más cruel.</e
	m><br><em>Entre muertes, decisiones difíciles y una naturaleza hostil, Mar
	co y su grupo se aferran a un único motor: la esperanza. Porque mientras h
	aya alguien por quien respirar, vale la pena luchar.</em></p><p><strong>Pr
	esentación del libro 'Sin Aire' </strong>(Létrame grupo editorial) <strong
	>de David Sánchez Lora, sábado 9 de mayo a las 19.00 horas </strong>en La 
	Pantera Rossa con la presencia del autor.</p><p><strong>David Sánchez Lora
	 </strong>(Zaragoza, 1980). Escritor y director. Ha desarrollado su trayec
	toria entre el cine y la literatura, destacando por obras que fusionan la 
	crítica social, la tensión narrativa y la profundidad emocional. Se formó 
	en la Academia de Cine Un Perro Andaluz, donde consolidó su mirada autoral
	 y dirigió el cortometraje Calle Venecia (2016), una pieza con fuerte carg
	a social y estética urbana. Anteriormente, debutó como cineasta en el Club
	 C.Bohalar con Todo por la coca (2001), al que siguieron La lista del  n 
	del mundo (2017) y el documental 60 años Santo Domingo de Silos (2019), re
	afirmando su compromiso con historias que re ejan las contradicciones del
	 mundo actual. En el ámbito literario, publicó su primera novela, Falso di
	nero, falsa moral (2022), una obra que explora los dilemas éticos de la so
	ciedad contemporánea a través de una trama de crimen, poder y decadencia m
	oral. Apasionado por las historias que conmueven, provocan y despiertan co
	nciencia, su narrativa se caracteriza por el realismo, la construcción de 
	personajes complejos y los giros inesperados. Actualmente reside en Zarago
	za y trabaja en nuevos proyectos que abarcan la <a target="_blank" href="h
	ttp://letrame.com">letrame.com</a> ciencia ficción, la novela negra y el d
	rama psicológico.</p>
BEGIN:VALARM
ACTION:DISPLAY
DESCRIPTION:Presentación de 'Sin Aire' de David Sánchez Lora
TRIGGER:-PT1H
END:VALARM
END:VEVENT
END:VCALENDAR
