BEGIN:VCALENDAR
VERSION:2.0
CALSCALE:GREGORIAN
PRODID:adamgibbons/ics
METHOD:PUBLISH
X-PUBLISHED-TTL:PT1H
BEGIN:VEVENT
UID:9626@calendari.cc
SUMMARY:L'Habitatge\, una altra cara de la desigualitat de gènere
DTSTAMP:20260425T174405Z
DTSTART:20260509T090000Z
DTEND:20260509T113000Z
DESCRIPTION:Parlarem de com la crisi de l’habitatge impacta especialment a 
	dones i\nidentitats dissidents\, i de la seva relació amb la precarietat l
	aboral\, la\nfeminització de la pobresa i el sensellarisme.\n\nModerada pe
	r @comiteclotcampdelarpa\, amb la participació de @co.bascatalunya\n@fem.r
	efugi @shvernedabesos que compartirem dades\, anàlisi i experiències sobre
	\nhabitatge\, treball i gènere.\n\n💥 En acabar\, hi haurà vermut!
URL:https://calendari.cc/event/lhabitatge-una-altra-cara-de-la-desigualitat
	-de-genere
GEO:41.4109;2.18851
LOCATION:Ateneu del Clot - 16\, Carrer de la Muntanya\, el Clot\, Sant Mart
	í\, Barcelona\, Barcelonès\, Barcelona\, Catalunya\, 08026\, España
STATUS:CONFIRMED
CATEGORIES:Clot,el Clot,habitatge,sindicat d'habitatge del clot,SindicatHab
	itatge,xerrada
X-ALT-DESC;FMTTYPE=text/html:<p>Parlarem de com la crisi de l’habitatge imp
	acta especialment a dones i identitats dissidents, i de la seva relació am
	b la precarietat laboral, la feminització de la pobresa i el sensellarisme
	.</p><p>Moderada per @comiteclotcampdelarpa, amb la participació de @co.ba
	scatalunya @fem.refugi @shvernedabesos que compartirem dades, anàlisi i ex
	periències sobre habitatge, treball i gènere.</p><p>💥 En acabar, hi haurà 
	vermut!</p>
BEGIN:VALARM
ACTION:DISPLAY
DESCRIPTION:L'Habitatge, una altra cara de la desigualitat de gènere
TRIGGER:-PT1H
END:VALARM
END:VEVENT
END:VCALENDAR
