BEGIN:VCALENDAR
VERSION:2.0
CALSCALE:GREGORIAN
PRODID:adamgibbons/ics
METHOD:PUBLISH
X-PUBLISHED-TTL:PT1H
BEGIN:VEVENT
UID:9578@calendari.cc
SUMMARY:LA PREVIA: Ciudad en alerta x Dreucol x Doggy Project
DTSTAMP:20260423T164136Z
DTSTART:20260425T100000Z
DTEND:20260425T210000Z
DESCRIPTION:Querides amigues🥰\, desde Ciudad en Alerta y en colaboración co
	n la Doggy\nProject traemos LA PREVIA🥳\, el próximo 25 de abril a partir d
	e las 16:00 en la\nCasa Invisible.\n\nAdemás llevaremos a cabo un taller d
	e intervención urbana 🫟 con la\nparticipación de Dreucol. El taller será d
	e 12:00 a 17:00 con un descanso para\ncomer. Las plazas serán limitadas\, 
	escríbenos por mensaje directo para más info.\n\nLA PREVIA se trata de un 
	eventillo muy especial\, como previa a nuestras jornadas\ndel próximo 15 y
	 16 de mayo.\nEstamos muy ilusionadas😋 y esperamos veros a todes por allí💘
	.\n\nCIUDAD EN ALERTA\nLA CIUDAD NO ESTÁ EN VENTA 🚨 ‼️
URL:https://calendari.cc/event/la-previa-ciudad-en-alerta-x-dreucol-x-doggy
	-project
GEO:36.7228;-4.42269
LOCATION:Patio Social - 8\, Calle Andrés Pérez\, Centro Histórico\, Centro\
	, Málaga\, Málaga-Costa del Sol\, Málaga\, Andalucía\, 29008\, España
STATUS:CONFIRMED
CATEGORIES:#Andalucía,#Málaga
X-ALT-DESC;FMTTYPE=text/html:<p>Querides amigues🥰, desde Ciudad en Alerta y
	 en colaboración con la Doggy Project traemos LA PREVIA🥳, el próximo 25 de
	 abril a partir de las 16:00 en la Casa Invisible.<br><br>Además llevaremo
	s a cabo un taller de intervención urbana 🫟 con la participación de Dreuco
	l. El taller será de 12:00 a 17:00 con un descanso para comer. Las plazas 
	serán limitadas, escríbenos por mensaje directo para más info.<br><br>LA P
	REVIA se trata de un eventillo muy especial, como previa a nuestras jornad
	as del próximo 15 y 16 de mayo.<br>Estamos muy ilusionadas😋 y esperamos ve
	ros a todes por allí💘.<br><br>CIUDAD EN ALERTA<br>LA CIUDAD NO ESTÁ EN VEN
	TA 🚨 ‼️</p>
BEGIN:VALARM
ACTION:DISPLAY
DESCRIPTION:LA PREVIA: Ciudad en alerta x Dreucol x Doggy Project
TRIGGER:-PT1H
END:VALARM
END:VEVENT
END:VCALENDAR
