BEGIN:VCALENDAR
VERSION:2.0
CALSCALE:GREGORIAN
PRODID:adamgibbons/ics
METHOD:PUBLISH
X-PUBLISHED-TTL:PT1H
BEGIN:VEVENT
UID:9548@calendari.cc
SUMMARY:Jornada Arrel Mediterrània — Dinar Popular + Café amb els CLERs + O
	bra de teatre "2030" de la Cía. La Canadiense
DTSTAMP:20260423T161403Z
DTSTART:20260426T120000Z
DTEND:20260426T180000Z
DESCRIPTION:Arrel Mediterrània: cultura\, territori i impacte social és un 
	projecte de\nresidències artístiques que proposa repensar la creació conte
	mporània en relació\namb el territori i la comunitat. Davant fenòmens com 
	la gentrificació en entorns\nurbans o la despoblació en zones rurals\, el 
	projecte planteja reflexionar sobre\nmodels culturals més sostenibles\, de
	scentralitzats i arrelats al context local.\n\nLa trobada a l’espai de cre
	ació Algrà (Alfafar) marca l’inici del projecte es\nconcep com un espai de
	 convivència\, reflexió i construcció col·lectiva entre els\ndiferents esp
	ais de residència participants en el programa\, procedents de la\nComunita
	t Valenciana\, Catalunya i les Illes Balears.\n\nLa jornada obri la trobad
	a d’Arrel Mediterrània al públic general amb un dia\nd’activitats al volta
	nt de la cultura\, el territori i la memòria vinculada a la\nDANA\, a l’es
	pai de creació Algrà (Alfafar).\n\nEl programa proposa un recorregut col·l
	ectiu que combina reflexió\, creació i\ntrobada entre agents culturals i c
	iutadania\, posant el focus en els impactes del\ncanvi climàtic i en el pa
	per de la cultura en els processos de reconstrucció\nsocial.\n\nPrograma:\
	n\n14:00 — Dinar popular (paella de verdures)\n16:00 — Café i trobada amb 
	els Comitès Locals d’Emergència i Reconstrucció de la\nDANA\n18:00 — Obra 
	de teatre: “2030” (Cia. La Canadiense) Utopia escènica sobre la\nsuperació
	 de la crisi climàtica\n20:00 — Tancament de la jornada\n\nActivitats comp
	lementàries:\n\n * Exposició d’il·lustració sobre la DANA (Col·lectiu Cult
	ural Benetússer)\n\nLa participació en les activitats requereix inscripció
	 prèvia mitjançant aquest\nformulari.\n\nL’entrada tindrà un cost que podr
	às pagar en la porta el mateix dia.\n\nPreus:\n\n * Dinar + teatre - 15€\n
	\n * Sols l'obra de teatre - 8€\n\nMenors de 12 anys entrada gratuïta\n\nP
	er a qualsevol dubte o més informació podeu escriure a espaialgra@gmail.co
	m
URL:https://calendari.cc/event/jornada-arrel-mediterrania-dinar-popular-caf
	e-amb-els-clers-obra-de-teatre-2030-de-la-cia-la-canadiense
LOCATION:Espai Algrà - Plaça Numero Diez\, 3\, 46910 Alfafar
STATUS:CONFIRMED
CATEGORIES:CLER,dana,dinarVegà,teatre
X-ALT-DESC;FMTTYPE=text/html:<p><strong>Arrel Mediterrània: cultura, territ
	ori i impacte social</strong> és un projecte de residències artístiques qu
	e proposa repensar la creació contemporània en relació amb el territori i 
	la comunitat. Davant fenòmens com la gentrificació en entorns urbans o la 
	despoblació en zones rurals, el projecte planteja reflexionar sobre models
	 culturals més sostenibles, descentralitzats i arrelats al context local.<
	/p><p>La trobada a l’espai de creació Algrà (Alfafar) marca l’inici del pr
	ojecte es concep com un espai de convivència, reflexió i construcció col·l
	ectiva entre els diferents espais de residència participants en el program
	a, procedents de la Comunitat Valenciana, Catalunya i les Illes Balears.</
	p><p>La jornada obri la trobada d’<strong>Arrel Mediterrània</strong> al p
	úblic general amb un dia d’activitats al voltant de la cultura, el territo
	ri i la memòria vinculada a la DANA, a l’espai de creació Algrà (Alfafar).
	</p><p>El programa proposa un recorregut col·lectiu que combina reflexió, 
	creació i trobada entre agents culturals i ciutadania, posant el focus en 
	els impactes del canvi climàtic i en el paper de la cultura en els process
	os de reconstrucció social.</p><p><strong>Programa:</strong></p><p>14:00 —
	 <strong>Dinar popular</strong> (paella de verdures)<br>16:00 — Café i tro
	bada amb els <strong>Comitès Locals d’Emergència i Reconstrucció de la DAN
	A</strong><br>18:00 — <strong>Obra de teatre: <em>“2030”</em></strong> (Ci
	a. La Canadiense) Utopia escènica sobre la superació de la crisi climàtica
	<br>20:00 — Tancament de la jornada</p><p><strong>Activitats complementàri
	es:</strong></p><ul><li><p>Exposició d’il·lustració sobre la DANA (Col·lec
	tiu Cultural Benetússer)</p></li></ul><p>La participació en les activitats
	 requereix inscripció prèvia mitjançant aquest formulari. </p><p>L’entrada
	 tindrà un cost que podràs pagar en la porta el mateix dia.</p><p><strong>
	Preus:</strong></p><ul><li><p>Dinar + teatre - <strong>15€</strong></p></l
	i><li><p>Sols l'obra de teatre - <strong>8€</strong></p></li></ul><p><em>M
	enors de 12 anys entrada gratuïta</em></p><p>Per a qualsevol dubte o més i
	nformació podeu escriure a <strong><u>espaialgra@gmail.com</u></strong></p
	>
BEGIN:VALARM
ACTION:DISPLAY
DESCRIPTION:Jornada Arrel Mediterrània — Dinar Popular + Café amb els CLERs
	 + Obra de teatre "2030" de la Cía. La Canadiense
TRIGGER:-PT1H
END:VALARM
END:VEVENT
END:VCALENDAR
