BEGIN:VCALENDAR
VERSION:2.0
CALSCALE:GREGORIAN
PRODID:adamgibbons/ics
METHOD:PUBLISH
X-PUBLISHED-TTL:PT1H
BEGIN:VEVENT
UID:9479@calendari.cc
SUMMARY:Hablan Las Prostitutas: 4º ciclo de charlas - debate. Burgos.
DTSTAMP:20260420T074457Z
DTSTART:20260420T173000Z
DESCRIPTION:Salón de actos CGT\, lunes\, 20 de abril\, 19:30 CEST\n\nLa Aso
	ciación CATS [https://www.asociacioncats.es/] está realizando\, por 4º año
	\nconsecutivo\, un ciclo de charlas - debate en distintas ciudades español
	as\,\nsubvencionado por el Ministerio de Igualdad en su convocatoria de Pr
	oyectos de\ninvestigación\, formación y sensibilización sobre las distinta
	s formas de\nviolencia contra las mujeres.\n\nEl objetivo es dar a conocer
	 la realidad que afrontan las mujeres que ejercen la\nprostitución\, escuc
	hando a las propias protagonistas y dialogando con ellas. Al\nmismo tiempo
	\, se darán a conocer los principales resultados de la investigación\nreal
	izada por CATS\, igualmente financiada por el Ministerio de Igualdad.\n\nL
	unes 20 Burgos CGT (C/ Calera 12)\n\nMartes 21 Oviedo Manglar (C/ Martínez
	 Vigil 14)\n\n• Resultados de la investigación: “Las prostitutas hablan de
	 violencias: Una\ninvestigación cualitativa - cuantitativa con 318 partici
	pantes\n[https://www.asociacioncats.es/download/investigacion-las-prostitu
	tas-hablan-de-violencias/]”.\n\n• Coloquio con Tigra (migrante y miembro d
	el sindicato de trabajadoras sexuales\nOTRAS) y Pikara (española y trabaja
	dora independiente).\n\nhttps://enredad.es/event/hablan-las-prostitutas-4o
	-ciclo-de-charlas-debate\n[https://enredad.es/event/hablan-las-prostitutas
	-4o-ciclo-de-charlas-debate]
URL:https://calendari.cc/event/hablan-las-prostitutas-4o-ciclo-de-charlas-d
	ebate-burgos
LOCATION:Salón de Actos\, Edificio de Sindicatos - C/ Calera\, 12\, Burgos
STATUS:CONFIRMED
CATEGORIES:
X-ALT-DESC;FMTTYPE=text/html:<p></p><p>Salón de actos CGT, lunes, 20 de abr
	il, 19:30 CEST</p><p>La <a target="_blank" href="https://www.asociacioncat
	s.es/">Asociación CATS</a> está realizando, por 4º año consecutivo, un cic
	lo de charlas - debate en distintas ciudades españolas, subvencionado por 
	el Ministerio de Igualdad en su convocatoria de Proyectos de investigación
	, formación y sensibilización sobre las distintas formas de violencia cont
	ra las mujeres.</p><p>El objetivo es dar a conocer la realidad que afronta
	n las mujeres que ejercen la prostitución, escuchando a las propias protag
	onistas y dialogando con ellas. Al mismo tiempo, se darán a conocer los pr
	incipales resultados de la investigación realizada por CATS, igualmente fi
	nanciada por el Ministerio de Igualdad.</p><p>Lunes 20 Burgos CGT (C/ Cale
	ra 12)</p><p>Martes 21 Oviedo Manglar (C/ Martínez Vigil 14)</p><p>• Resul
	tados de la investigación: “<a target="_blank" href="https://www.asociacio
	ncats.es/download/investigacion-las-prostitutas-hablan-de-violencias/">Las
	 prostitutas hablan de violencias: Una investigación cualitativa - cuantit
	ativa con 318 participantes</a>”.</p><p>• Coloquio con Tigra (migrante y m
	iembro del sindicato de trabajadoras sexuales OTRAS) y Pikara (española y 
	trabajadora independiente).</p><p><a target="_blank" href="https://enredad
	.es/event/hablan-las-prostitutas-4o-ciclo-de-charlas-debate">https://enred
	ad.es/event/hablan-las-prostitutas-4o-ciclo-de-charlas-debate</a></p>
BEGIN:VALARM
ACTION:DISPLAY
DESCRIPTION:Hablan Las Prostitutas: 4º ciclo de charlas - debate. Burgos.
TRIGGER:-PT1H
END:VALARM
END:VEVENT
END:VCALENDAR
