BEGIN:VCALENDAR
VERSION:2.0
CALSCALE:GREGORIAN
PRODID:adamgibbons/ics
METHOD:PUBLISH
X-PUBLISHED-TTL:PT1H
BEGIN:VEVENT
UID:9475@calendari.cc
SUMMARY:Grupo de Lectura la TAG
DTSTAMP:20260424T101453Z
DTSTART:20260423T153000Z
DTEND:20260423T173000Z
DESCRIPTION:📚😲 ¡Grupo de lectura en conjunto!\n\n🏢 ¿Dónde?\nEn la bibliotec
	a del CSN (Carrer Cadirers 2\, 2ª planta).\n\n🕒 ¿Cuándo?\nJueves 23/04\, d
	e 17:30–19:30h.\n\n💬 ¿Qué leemos?\nLa abolición del trabajo\, un ensayo po
	r Bob Black\, anarquista estadounidense y\nfundador de la corriente del po
	sizquierdismo. Dentre de este ensayo\, Black nos\nexplica como el trabajo 
	es desastrozo para nuestra salud\, desarrollando un\nesquema de sistema lú
	dico de juegos y placer que reemplazarían el trabajo como\nforma de produc
	ción.\n\n📝 Algunas cosas que podríamos discutir...\n\n¿A lo largo de la hi
	storia\, el trabajo a evolucionado de forma positiva o\nnegativa?\n\n¿La l
	abor asalariada es forzada?\n\n¿Qué nos pueden enseñar los niños sobre la 
	naturaleza del trabajo?\n\n\n🗣️ ¡Únete a la TAG para aprender\, discutir\, 
	y compartir ideas con compañeros!\n\n\nTeoría Anarquista en Grupo\n¡Vente 
	a la TAG!
URL:https://calendari.cc/event/grupo-de-lectura-la-tag-2
GEO:39.4757;-0.377993
LOCATION:CSOA CSN - C/ Cadirers 2\, Ciutat Vella
STATUS:CONFIRMED
CATEGORIES:anarquisme,ciutat vella,lectura
X-ALT-DESC;FMTTYPE=text/html:<p>📚😲 ¡Grupo de lectura en conjunto!<br><br>🏢 
	¿Dónde?<br>En la biblioteca del CSN (Carrer Cadirers 2, 2ª planta).<br><br
	>🕒 ¿Cuándo?<br>Jueves 23/04, de 17:30–19:30h.<br><br>💬 ¿Qué leemos?<br>La 
	abolición del trabajo, un ensayo por Bob Black, anarquista estadounidense 
	y fundador de la corriente del posizquierdismo. Dentre de este ensayo, Bla
	ck nos explica como el trabajo es desastrozo para nuestra salud, desarroll
	ando un esquema de sistema lúdico de juegos y placer que reemplazarían el 
	trabajo como forma de producción.<br><br>📝 Algunas cosas que podríamos dis
	cutir...</p><p>¿A lo largo de la historia, el trabajo a evolucionado de fo
	rma positiva o negativa?</p><p>¿La labor asalariada es forzada?</p><p>¿Qué
	 nos pueden enseñar los niños sobre la naturaleza del trabajo?</p><p><br>🗣️
	&nbsp;¡Únete a la TAG para aprender, discutir, y compartir ideas con compa
	ñeros!</p><p><br>Teoría Anarquista en Grupo<br>¡Vente a la TAG!</p>
BEGIN:VALARM
ACTION:DISPLAY
DESCRIPTION:Grupo de Lectura la TAG
TRIGGER:-PT1H
END:VALARM
END:VEVENT
END:VCALENDAR
