BEGIN:VCALENDAR
VERSION:2.0
CALSCALE:GREGORIAN
PRODID:adamgibbons/ics
METHOD:PUBLISH
X-PUBLISHED-TTL:PT1H
BEGIN:VEVENT
UID:9567@calendari.cc
SUMMARY:El Sotrac fa paradeta de llibres per Sant Jordi
DTSTAMP:20260423T120551Z
DTSTART:20260423T130000Z
DTEND:20260423T183000Z
DESCRIPTION:Hi haurà una gran selecció de literatura crítica d’assaig\, inf
	antil\, narrativa i\ntambé tindrem còpies del llibre editat recentment fru
	it del concurs de relats\nNarra Karcelona.\nPer a més info\, consulteu el 
	blog\n[https://blogs.sindominio.net/lacinetika/2026/04/22/23-04-26-el-sotr
	ac-fa-paradeta-de-llibres-de-sant-jordi/].
URL:https://calendari.cc/event/el-sotrac-fa-paradeta-de-llibres-per-sant-jo
	rdi
GEO:41.4303;2.18802
LOCATION:La Cinètika - 32\, Rambla de Fabra i Puig\, Sant Andreu\, Barcelon
	a\, 08030
STATUS:CONFIRMED
CATEGORIES:autogestió,biblioteca,cultura,LaCinètika,SantAndreu,SantAndreuDe
	lPalomar,SantJordi
X-ALT-DESC;FMTTYPE=text/html:<p>Hi haurà una gran selecció de literatura cr
	ítica d’assaig, infantil, narrativa i també tindrem còpies del llibre edit
	at recentment fruit del concurs de relats Narra Karcelona.<br>Per a més in
	fo, <a target="_blank" href="https://blogs.sindominio.net/lacinetika/2026/
	04/22/23-04-26-el-sotrac-fa-paradeta-de-llibres-de-sant-jordi/">consulteu 
	el blog</a>.</p>
BEGIN:VALARM
ACTION:DISPLAY
DESCRIPTION:El Sotrac fa paradeta de llibres per Sant Jordi
TRIGGER:-PT1H
END:VALARM
END:VEVENT
END:VCALENDAR
