BEGIN:VCALENDAR
VERSION:2.0
CALSCALE:GREGORIAN
PRODID:adamgibbons/ics
METHOD:PUBLISH
X-PUBLISHED-TTL:PT1H
BEGIN:VEVENT
UID:9587@calendari.cc
SUMMARY:CICLOFICINA L'HORTA 🚲
DTSTAMP:20260423T183848Z
DTSTART:20260429T160000Z
DTEND:20260429T190000Z
DESCRIPTION:Cicloficina de l'Horta és un espai col-lectiu on a través de l'
	autogestió i la\nfilosofia del "fes-ho tu mateix" obrim la possibilitat a 
	totes les persones de\npoder aprendre a reparar la seua bicicleta\, en un 
	espai en constant aprenentatge\non proporcionem les ferramentes necessărie
	s i l'experiència compartida des del\ncol-lectiu\, si necessites ajuda i t
	ens dubtes sobre mecànica de bicis\, pregunta\niel resolem juntis. Este pr
	ojecte s'autofinança amb\ni'ajuda que cada u pot aportar\, donant el seu t
	emps\,material\, peces i\nbicicletes\, o contribuint de manera econòmica a
	portant en el pot. Som persones\nciclistes anticapitalistes\, antifeixiste
	s i transfeministes que veuen la\nbicicleta com un simbol de revolució i l
	libertat.\n\n"L'única cadena que m'allibera és la\nde la meua bicicleta"\n
URL:https://calendari.cc/event/cicloficina-lhorta
GEO:39.487;-0.3537
LOCATION:CSOA L'Horta - al final del Carrer de Diógenes Lopez Mecho junt a 
	la Plaça Tretze Roses
STATUS:CONFIRMED
CATEGORIES:
X-ALT-DESC;FMTTYPE=text/html:<p>Cicloficina de l'Horta és un espai col-lect
	iu on a través de l'autogestió i la filosofia del "fes-ho tu mateix" obrim
	 la possibilitat a totes les persones de poder aprendre a reparar la seua 
	bicicleta, en un espai en constant aprenentatge on proporcionem les ferram
	entes necessăries i l'experiència compartida des del col-lectiu, si necess
	ites ajuda i tens dubtes sobre mecànica de bicis, pregunta iel resolem jun
	tis. Este projecte s'autofinança amb<br>i'ajuda que cada u pot aportar, do
	nant el seu temps,material, peces i bicicletes, o contribuint de manera ec
	onòmica aportant en el pot. Som persones ciclistes anticapitalistes, antif
	eixistes i transfeministes que veuen la bicicleta com un simbol de revoluc
	ió i llibertat. <br><br>"L'única cadena que m'allibera és la<br>de la meua
	 bicicleta"<br></p>
BEGIN:VALARM
ACTION:DISPLAY
DESCRIPTION:CICLOFICINA L'HORTA 🚲
TRIGGER:-PT1H
END:VALARM
END:VEVENT
END:VCALENDAR
