BEGIN:VCALENDAR
VERSION:2.0
CALSCALE:GREGORIAN
PRODID:adamgibbons/ics
METHOD:PUBLISH
X-PUBLISHED-TTL:PT1H
BEGIN:VEVENT
UID:9569@calendari.cc
SUMMARY:Assemblea oberta de Reinonis
DTSTAMP:20260425T104356Z
DTSTART:20260430T090000Z
DTEND:20260430T110000Z
DESCRIPTION:AVISO A TODES LES BICHITES XULES DE VALENCIA!!! 🐞🦋🦟\n\nEl próxi
	mo jueves 30 a las 11:00 os esperamos a todes en la guarida travesti en\ne
	l segundo piso del CSN (carrer de cadirers\, 2\, València) 🐛🩷 asamblea abi
	erta\npa juntarnos y organizarnos juntis 🧚\n\n\n\nAVÍS A TOTIS LIS BIXISSS
	 XULISSS DE VALÈNCIA!!! 🐞🦋🦟\n\nEl pròxim dijous 30 a les 11:00 us esperem 
	a totis en la guarida travesti al\nsegon pis del CSN (carrer de cadirers\,
	 2\, València) 🐛🩷 assemblea oberta per a\njuntar-nos i organitzar-nos junt
	iss 🧚
URL:https://calendari.cc/event/assemblea-oberta-de-reinonis-1
GEO:39.4757;-0.377993
LOCATION:CSOA CSN - C/ Cadirers 2\, Ciutat Vella
STATUS:CONFIRMED
CATEGORIES:no mixte,Reinonis
X-ALT-DESC;FMTTYPE=text/html:<p>AVISO A TODES LES BICHITES XULES DE VALENCI
	A!!! 🐞🦋🦟</p><p>El próximo jueves 30 a las 11:00 os esperamos a todes en la
	 guarida travesti en el segundo piso del CSN (carrer de cadirers, 2, Valèn
	cia) 🐛🩷 asamblea abierta pa juntarnos y organizarnos juntis 🧚</p><p></p><p
	>AVÍS A TOTIS LIS BIXISSS XULISSS DE VALÈNCIA!!! 🐞🦋🦟</p><p>El pròxim dijou
	s 30 a les 11:00 us esperem a totis en la guarida travesti al segon pis de
	l CSN (carrer de cadirers, 2, València) 🐛🩷 assemblea oberta per a juntar-n
	os i organitzar-nos juntiss 🧚</p>
BEGIN:VALARM
ACTION:DISPLAY
DESCRIPTION:Assemblea oberta de Reinonis
TRIGGER:-PT1H
END:VALARM
END:VEVENT
END:VCALENDAR
