BEGIN:VCALENDAR
VERSION:2.0
CALSCALE:GREGORIAN
PRODID:adamgibbons/ics
METHOD:PUBLISH
X-PUBLISHED-TTL:PT1H
BEGIN:VEVENT
UID:9525@calendari.cc
SUMMARY:ACTE CORRELLENGUA AGERMANAT 2026
DTSTAMP:20260421T212409Z
DTSTART:20260425T150000Z
DTEND:20260425T193000Z
URL:https://calendari.cc/event/acte-correllengua-agermanat-2026
LOCATION:PONT DE FUSTA - ENTRE PONT DE FUSTA I PONT DEL REAL
STATUS:CONFIRMED
CATEGORIES:BDS,CORRELLENGUA,Diada del País Valencià
BEGIN:VALARM
ACTION:DISPLAY
DESCRIPTION:ACTE CORRELLENGUA AGERMANAT 2026
TRIGGER:-PT1H
END:VALARM
END:VEVENT
END:VCALENDAR
