BEGIN:VCALENDAR
VERSION:2.0
CALSCALE:GREGORIAN
PRODID:adamgibbons/ics
METHOD:PUBLISH
X-PUBLISHED-TTL:PT1H
BEGIN:VEVENT
UID:9585@calendari.cc
SUMMARY:10è aniversari de l'Horta Alliberada
DTSTAMP:20260423T183954Z
DTSTART:20260425T100000Z
DESCRIPTION:Aquest maig l'Horta Alliberada celebra 10 anys de vida!\n\nEn d
	eu anys\, a cops d'aixada i pic\, hem anat convertint un solar buit en un\
	nespai verd autogestionat ple de vida. Tenim moltes ganes de compartir aqu
	esta\ncelebració amb totes les companyes\, veïnes i amigues que han fet po
	ssible\naquests deu anys de creació i resistència! 🎉\n\n📍L'Horta Alliberad
	a de Sants (carrers Càceres amb Tinent Flomesta)\n\nDissabte 25 d'abril\n\
	nA partir de les 12h\n\n- Taller de serigrafia 🧑‍🎨\n\n- Vermut musical amb R
	enato al Aparato 🎶\n\nDivendres 1 de maig\n\nPer la tarda\n\n- Anem juntis
	 a la mani 💪\n\nDissabte 2 de maig\n\n- 11.00 Visita a l'Horta 🌱\n\n- 13.0
	0 Vermut de batalletes ❤️‍🔥\n\n- 14.00 Dinar popular vegà i cafè 🥗🥘\n\n- 16.0
	0 Gran concurs de nyapes 🛠\n\n- 19.00 Concert de Julia Soler 🎶\n\n- 20.30 
	Fricandones PD set👩‍🎤\n\nBarra oberta durant les activitats (porteu el vostr
	e got) 🥃\n\nNo s'aceptaran actituts de merda!
URL:https://calendari.cc/event/10e-aniversari-de-lhorta-alliberada
GEO:41.3746;2.13193
LOCATION:L'Horta Alliberada - 15\, Carrer de Càceres\, Sants\, Barcelona\, 
	08028
STATUS:CONFIRMED
CATEGORIES:
X-ALT-DESC;FMTTYPE=text/html:<p><strong>Aquest maig l'Horta Alliberada cele
	bra 10 anys de vida!</strong> </p><p>En deu anys, a cops d'aixada i pic, h
	em anat convertint un solar buit en un espai verd autogestionat ple de vid
	a. Tenim moltes ganes de compartir aquesta celebració amb totes les compan
	yes, veïnes i amigues que han fet possible aquests deu anys de creació i r
	esistència! 🎉</p><p>📍L'Horta Alliberada de Sants (carrers Càceres amb Tine
	nt Flomesta)</p><p>Dissabte 25 d'abril</p><p>A partir de les 12h</p><p>- T
	aller de serigrafia 🧑‍🎨</p><p>- Vermut musical amb Renato al Aparato 🎶</p><p
	>Divendres 1 de maig</p><p>Per la tarda</p><p>- Anem juntis a la mani 💪</p
	><p>Dissabte 2 de maig</p><p>- 11.00 Visita a l'Horta 🌱</p><p>- 13.00 Verm
	ut de batalletes ❤️‍🔥</p><p>- 14.00 Dinar popular vegà i cafè 🥗🥘</p><p>- 16.0
	0 Gran concurs de nyapes 🛠</p><p>- 19.00 Concert de Julia Soler 🎶</p><p>- 
	20.30 Fricandones PD set👩‍🎤</p><p>Barra oberta durant les activitats (porteu
	 el vostre got) 🥃</p><p>No s'aceptaran actituts de merda!</p>
BEGIN:VALARM
ACTION:DISPLAY
DESCRIPTION:10è aniversari de l'Horta Alliberada
TRIGGER:-PT1H
END:VALARM
END:VEVENT
END:VCALENDAR
